BEGIN:VCALENDAR
VERSION:2.0
PRODID:-//Humboldt Golf Club - ECPv6.15.18//NONSGML v1.0//EN
CALSCALE:GREGORIAN
METHOD:PUBLISH
X-WR-CALNAME:Humboldt Golf Club
X-ORIGINAL-URL:https://humboldtgolfclub.ca
X-WR-CALDESC:Events for Humboldt Golf Club
REFRESH-INTERVAL;VALUE=DURATION:PT1H
X-Robots-Tag:noindex
X-PUBLISHED-TTL:PT1H
BEGIN:VTIMEZONE
TZID:America/Regina
BEGIN:STANDARD
TZOFFSETFROM:-0600
TZOFFSETTO:-0600
TZNAME:CST
DTSTART:20250101T000000
END:STANDARD
END:VTIMEZONE
BEGIN:VEVENT
DTSTART;TZID=America/Regina:20260731T120000
DTEND;TZID=America/Regina:20260802T170000
DTSTAMP:20260420T033746
CREATED:20260324T191524Z
LAST-MODIFIED:20260324T191528Z
UID:3407-1785499200-1785690000@humboldtgolfclub.ca
SUMMARY:Private Event
DESCRIPTION:Event Center Only
URL:https://humboldtgolfclub.ca/event/private-event-7/
CATEGORIES:Event Centre - Private
ATTACH;FMTTYPE=image/png:https://humboldtgolfclub.ca/wp-content/uploads/2023/04/Event-Tent-Private.png
END:VEVENT
BEGIN:VEVENT
DTSTART;TZID=America/Regina:20260805T090000
DTEND;TZID=America/Regina:20260805T114500
DTSTAMP:20260420T033746
CREATED:20250417T182320Z
LAST-MODIFIED:20260324T200832Z
UID:3144-1785920400-1785930300@humboldtgolfclub.ca
SUMMARY:Senior's Morning
DESCRIPTION:Weekly on Wednesdays \n\n\n\n\n\nJoin us at the HGC for our weekly Senior’s Morning at 9:00 am each week.   \n\n\n\nThe last Senior’s Morning is September 3rd and & windup for the year is at 9:00 am on September 10th.
URL:https://humboldtgolfclub.ca/event/seniors-morning-11/
CATEGORIES:Senior's Morning
ATTACH;FMTTYPE=image/jpeg:https://humboldtgolfclub.ca/wp-content/uploads/2025/04/Seniors-Morning.jpg
END:VEVENT
BEGIN:VEVENT
DTSTART;TZID=America/Regina:20260805T180000
DTEND;TZID=America/Regina:20260805T210000
DTSTAMP:20260420T033746
CREATED:20250417T182351Z
LAST-MODIFIED:20260324T200723Z
UID:3146-1785952800-1785963600@humboldtgolfclub.ca
SUMMARY:Lady's Night
DESCRIPTION:Weekly on Wednesdays \n\n\n\n\n\nJoin us at the HGC for our weekly Lady’s Night at 6:00 pm each week.   \n\n\n\nThe last Lady’s Night is August 27th.
URL:https://humboldtgolfclub.ca/event/ladies-night-7/
CATEGORIES:Ladies' Night
ATTACH;FMTTYPE=image/jpeg:https://humboldtgolfclub.ca/wp-content/uploads/2025/04/Ladies-Night.jpg
END:VEVENT
BEGIN:VEVENT
DTSTART;TZID=America/Regina:20260806T180000
DTEND;TZID=America/Regina:20260806T220000
DTSTAMP:20260420T033746
CREATED:20250417T182432Z
LAST-MODIFIED:20260324T200557Z
UID:3148-1786039200-1786053600@humboldtgolfclub.ca
SUMMARY:Men's Night
DESCRIPTION:Weekly on Thursdays \n\n\n\n\n\nJoin us at the HGC for our weekly Men’s Night at 6pm each week.  \n\n\n\nThe last Men’s Night is August 28th and our windup for the year is September 13th.
URL:https://humboldtgolfclub.ca/event/mens-night-10/
CATEGORIES:Men's Nite
ATTACH;FMTTYPE=image/jpeg:https://humboldtgolfclub.ca/wp-content/uploads/2024/06/Mens-Nite-2024.jpg
END:VEVENT
BEGIN:VEVENT
DTSTART;TZID=America/Regina:20260812T110000
DTEND;TZID=America/Regina:20260812T210000
DTSTAMP:20260420T033746
CREATED:20250417T180954Z
LAST-MODIFIED:20260324T200305Z
UID:3124-1786532400-1786568400@humboldtgolfclub.ca
SUMMARY:Senior Open 2025
DESCRIPTION:Tournament Information:\n\n\n\nFormat will be an 18 Hole\, 2 Person Scramble  \n\n\n\nMen’s\, Ladies’ and Mixed teams welcome. \n\n\n\nFor Ages:  Men 55+  Ladies:  50+ \n\n\n\nShotgun Start NOON$40 Per Person (Member) and $65 per person (Non-Member)\, Power Cart $23 per person
URL:https://humboldtgolfclub.ca/event/senior-open-2025/
CATEGORIES:Public Golf Event
ATTACH;FMTTYPE=image/jpeg:https://humboldtgolfclub.ca/wp-content/uploads/2016/05/seniros.jpg
END:VEVENT
BEGIN:VEVENT
DTSTART;TZID=America/Regina:20260812T180000
DTEND;TZID=America/Regina:20260812T210000
DTSTAMP:20260420T033746
CREATED:20250417T192658Z
LAST-MODIFIED:20260324T195759Z
UID:3161-1786557600-1786568400@humboldtgolfclub.ca
SUMMARY:Lady's Night
DESCRIPTION:Weekly on Wednesdays \n\n\n\n\n\nJoin us at the HGC for our weekly Lady’s Night at 6:00 pm each week.   \n\n\n\nThe last Lady’s Night is August 27th.
URL:https://humboldtgolfclub.ca/event/ladies-night-8/
CATEGORIES:Ladies' Night
ATTACH;FMTTYPE=image/jpeg:https://humboldtgolfclub.ca/wp-content/uploads/2025/04/Ladies-Night.jpg
END:VEVENT
BEGIN:VEVENT
DTSTART;TZID=America/Regina:20260813T180000
DTEND;TZID=America/Regina:20260813T220000
DTSTAMP:20260420T033746
CREATED:20250417T192742Z
LAST-MODIFIED:20260324T195703Z
UID:3163-1786644000-1786658400@humboldtgolfclub.ca
SUMMARY:Men's Night
DESCRIPTION:Weekly on Thursdays \n\n\n\n\n\nJoin us at the HGC for our weekly Men’s Night at 6pm each week.  \n\n\n\nThe last Men’s Night is August 28th and our windup for the year is September 13th.
URL:https://humboldtgolfclub.ca/event/mens-night-11/
CATEGORIES:Men's Nite
ATTACH;FMTTYPE=image/jpeg:https://humboldtgolfclub.ca/wp-content/uploads/2024/06/Mens-Nite-2024.jpg
END:VEVENT
BEGIN:VEVENT
DTSTART;TZID=America/Regina:20260814T170000
DTEND;TZID=America/Regina:20260814T230000
DTSTAMP:20260420T033746
CREATED:20260324T192139Z
LAST-MODIFIED:20260324T192143Z
UID:3411-1786726800-1786748400@humboldtgolfclub.ca
SUMMARY:Broncos Families Night
DESCRIPTION:
URL:https://humboldtgolfclub.ca/event/broncos-families-night/
CATEGORIES:Event Centre - Private
END:VEVENT
BEGIN:VEVENT
DTSTART;TZID=America/Regina:20260815T080000
DTEND;TZID=America/Regina:20260815T180000
DTSTAMP:20260420T033746
CREATED:20260324T192015Z
LAST-MODIFIED:20260324T192018Z
UID:3409-1786780800-1786816800@humboldtgolfclub.ca
SUMMARY:Broncos Memorial Golf Tournament
DESCRIPTION:
URL:https://humboldtgolfclub.ca/event/broncos-memorial-golf-tournament/
END:VEVENT
BEGIN:VEVENT
DTSTART;TZID=America/Regina:20260816T080000
DTEND;TZID=America/Regina:20260816T210000
DTSTAMP:20260420T033746
CREATED:20250805T145820Z
LAST-MODIFIED:20260324T195509Z
UID:3356-1786867200-1786914000@humboldtgolfclub.ca
SUMMARY:Universal Junior Cup Tournament
DESCRIPTION:Sunday\, August 17th \n\n\n\n18 hole stroke play Junior Tournament  \n\n\n\nTee times start at 11:00 AM  \n\n\n\nAges 10-19 (age as of August 31st\, 2025). \n\n\n\nIncludes supper and prizes (approximately 5:00 PM) \n\n\n\nPricing: \n\n\n\nNon-members: $60 \n\n\n\nMembers: $40  \n\n\n\nThe last day to register is by 8:30PM Thursday\, August 14th. This tournament is for ages 10 to 19 (as of August 31\, 2025) \n\n\n\nRegister by 8:30pm on Thursday\, August 14th in person at the clubhouse or by calling 306-682-2833.
URL:https://humboldtgolfclub.ca/event/universal-junior-cup-tournament/
CATEGORIES:Junior Tournament
ATTACH;FMTTYPE=image/jpeg:https://humboldtgolfclub.ca/wp-content/uploads/2015/11/course-photo.jpg
END:VEVENT
BEGIN:VEVENT
DTSTART;TZID=America/Regina:20260818T093000
DTEND;TZID=America/Regina:20260818T163000
DTSTAMP:20260420T033746
CREATED:20250627T144544Z
LAST-MODIFIED:20260324T195408Z
UID:3327-1787045400-1787070600@humboldtgolfclub.ca
SUMMARY:Aspen Power Station Charity Tournament
DESCRIPTION:Aspen Power Station Charity Tournament \n\n\n\nTee times are not available during tournament play
URL:https://humboldtgolfclub.ca/event/aspen-power-station-charity-tournament/
CATEGORIES:Charity Tournament
ATTACH;FMTTYPE=image/jpeg:https://humboldtgolfclub.ca/wp-content/uploads/2022/04/19221666_1270127353086319_2919714917882898417_o.jpeg
END:VEVENT
BEGIN:VEVENT
DTSTART;TZID=America/Regina:20260819T090000
DTEND;TZID=America/Regina:20260819T114500
DTSTAMP:20260420T033746
CREATED:20250417T194813Z
LAST-MODIFIED:20260324T195248Z
UID:3171-1787130000-1787139900@humboldtgolfclub.ca
SUMMARY:Senior's Morning
DESCRIPTION:Weekly on Wednesdays \n\n\n\n\n\nJoin us at the HGC for our weekly Senior’s Morning at 9:00 am each week.   \n\n\n\nThe last Senior’s Morning is September 3rd and & windup for the year is at 9:00 am on September 10th.
URL:https://humboldtgolfclub.ca/event/seniors-morning-13/
CATEGORIES:Senior's Morning
ATTACH;FMTTYPE=image/jpeg:https://humboldtgolfclub.ca/wp-content/uploads/2025/04/Seniors-Morning.jpg
END:VEVENT
BEGIN:VEVENT
DTSTART;TZID=America/Regina:20260819T180000
DTEND;TZID=America/Regina:20260819T210000
DTSTAMP:20260420T033746
CREATED:20250417T194910Z
LAST-MODIFIED:20260324T195215Z
UID:3173-1787162400-1787173200@humboldtgolfclub.ca
SUMMARY:Lady's Night
DESCRIPTION:Weekly on Wednesdays \n\n\n\n\n\nJoin us at the HGC for our weekly Lady’s Night at 6:00 pm each week.   \n\n\n\nThe last Lady’s Night is August 27th.
URL:https://humboldtgolfclub.ca/event/ladies-night-9/
CATEGORIES:Ladies' Night
ATTACH;FMTTYPE=image/jpeg:https://humboldtgolfclub.ca/wp-content/uploads/2025/04/Ladies-Night.jpg
END:VEVENT
BEGIN:VEVENT
DTSTART;TZID=America/Regina:20260820T180000
DTEND;TZID=America/Regina:20260820T220000
DTSTAMP:20260420T033746
CREATED:20250417T194944Z
LAST-MODIFIED:20260324T194926Z
UID:3175-1787248800-1787263200@humboldtgolfclub.ca
SUMMARY:Men's Night
DESCRIPTION:Weekly on Thursdays \n\n\n\n\n\nJoin us at the HGC for our weekly Men’s Night at 6pm each week.  \n\n\n\nThe last Men’s Night is August 28th and our windup for the year is September 13th.
URL:https://humboldtgolfclub.ca/event/mens-night-12/
CATEGORIES:Men's Nite
ATTACH;FMTTYPE=image/jpeg:https://humboldtgolfclub.ca/wp-content/uploads/2024/06/Mens-Nite-2024.jpg
END:VEVENT
BEGIN:VEVENT
DTSTART;TZID=America/Regina:20260822T110000
DTEND;TZID=America/Regina:20260822T233000
DTSTAMP:20260420T033746
CREATED:20250417T195109Z
LAST-MODIFIED:20260324T191730Z
UID:3177-1787396400-1787441400@humboldtgolfclub.ca
SUMMARY:Lady's Par and Pairings
DESCRIPTION:Registration:  11:00am – 11:45am \n\n\n\nShotgun start at 12:00 Noon \n\n\n\n18 holes – 2 person scramble
URL:https://humboldtgolfclub.ca/event/ladys-par-and-pairings/
CATEGORIES:Public Golf Event
ATTACH;FMTTYPE=image/jpeg:https://humboldtgolfclub.ca/wp-content/uploads/2016/05/ladies.jpg
END:VEVENT
BEGIN:VEVENT
DTSTART;TZID=America/Regina:20260824T080000
DTEND;TZID=America/Regina:20260824T180000
DTSTAMP:20260420T033746
CREATED:20250417T195435Z
LAST-MODIFIED:20260324T194838Z
UID:3179-1787558400-1787594400@humboldtgolfclub.ca
SUMMARY:Adult/Junior Tournament
DESCRIPTION:– Monday August 25th– 2 person scramble (One Adult with One Junior)– Open to all ages– 9 holes– 5:30 PM shotgun start– Dinner and prizes after the round– Deadline to sign up is Sunday August 24th by 3:00 PM– sponsored by Canadian Tire \n\n\n\nAdult Club Member — $25 \n\n\n\nJr.Club Member — $25 \n\n\n\nAdult Non-member — $60 \n\n\n\nJr. Non-member — $40
URL:https://humboldtgolfclub.ca/event/adult-junior/
CATEGORIES:Public Golf Event
ATTACH;FMTTYPE=image/jpeg:https://humboldtgolfclub.ca/wp-content/uploads/2025/04/junior.jpg
END:VEVENT
BEGIN:VEVENT
DTSTART;TZID=America/Regina:20260826T090000
DTEND;TZID=America/Regina:20260826T114500
DTSTAMP:20260420T033746
CREATED:20250417T200147Z
LAST-MODIFIED:20260324T194153Z
UID:3182-1787734800-1787744700@humboldtgolfclub.ca
SUMMARY:Senior's Morning
DESCRIPTION:Weekly on Wednesdays \n\n\n\n\n\nJoin us at the HGC for our weekly Senior’s Morning at 9:00 am each week.   \n\n\n\nThe last Senior’s Morning is September 3rd and & windup for the year is at 9:00 am on September 10th.
URL:https://humboldtgolfclub.ca/event/seniors-morning-14/
CATEGORIES:Senior's Morning
ATTACH;FMTTYPE=image/jpeg:https://humboldtgolfclub.ca/wp-content/uploads/2025/04/Seniors-Morning.jpg
END:VEVENT
BEGIN:VEVENT
DTSTART;TZID=America/Regina:20260826T180000
DTEND;TZID=America/Regina:20260826T210000
DTSTAMP:20260420T033746
CREATED:20250417T200233Z
LAST-MODIFIED:20260324T193439Z
UID:3184-1787767200-1787778000@humboldtgolfclub.ca
SUMMARY:Lady's Night
DESCRIPTION:Weekly on Wednesdays \n\n\n\n\n\nJoin us at the HGC for our weekly Lady’s Night at 6:00 pm each week.   \n\n\n\nThe last Lady’s Night is August 27th.
URL:https://humboldtgolfclub.ca/event/ladies-night-12/
CATEGORIES:Ladies' Night
ATTACH;FMTTYPE=image/jpeg:https://humboldtgolfclub.ca/wp-content/uploads/2025/04/Ladies-Night.jpg
END:VEVENT
BEGIN:VEVENT
DTSTART;TZID=America/Regina:20260827T180000
DTEND;TZID=America/Regina:20260827T220000
DTSTAMP:20260420T033746
CREATED:20250417T200317Z
LAST-MODIFIED:20260324T192853Z
UID:3186-1787853600-1787868000@humboldtgolfclub.ca
SUMMARY:Men's Night
DESCRIPTION:Weekly on Thursdays \n\n\n\n\n\nJoin us at the HGC for our weekly Men’s Night at 6pm each week.  \n\n\n\nThe last Men’s Night is August 28th and our windup for the year is September 13th.
URL:https://humboldtgolfclub.ca/event/mens-night-13/
CATEGORIES:Men's Nite
ATTACH;FMTTYPE=image/jpeg:https://humboldtgolfclub.ca/wp-content/uploads/2024/06/Mens-Nite-2024.jpg
END:VEVENT
BEGIN:VEVENT
DTSTART;TZID=America/Regina:20260902T090000
DTEND;TZID=America/Regina:20260902T114500
DTSTAMP:20260420T033746
CREATED:20250417T200419Z
LAST-MODIFIED:20260324T192540Z
UID:3188-1788339600-1788349500@humboldtgolfclub.ca
SUMMARY:Senior's Morning
DESCRIPTION:Weekly on Wednesdays \n\n\n\n\n\nJoin us at the HGC for our weekly Senior’s Morning at 9:00 am each week.   \n\n\n\nThe last Senior’s Morning is September 3rd and & windup for the year is at 9:00 am on September 10th.
URL:https://humboldtgolfclub.ca/event/seniors-morning-15/
CATEGORIES:Senior's Morning
ATTACH;FMTTYPE=image/jpeg:https://humboldtgolfclub.ca/wp-content/uploads/2025/04/Seniors-Morning.jpg
END:VEVENT
BEGIN:VEVENT
DTSTART;TZID=America/Regina:20260904T120000
DTEND;TZID=America/Regina:20260906T170000
DTSTAMP:20260420T033746
CREATED:20250417T201755Z
LAST-MODIFIED:20260324T185319Z
UID:3203-1788523200-1788714000@humboldtgolfclub.ca
SUMMARY:Private Event
DESCRIPTION:Event Center Only
URL:https://humboldtgolfclub.ca/event/private-event-8/
CATEGORIES:Event Centre - Private
ATTACH;FMTTYPE=image/png:https://humboldtgolfclub.ca/wp-content/uploads/2023/04/Event-Tent-Private.png
END:VEVENT
BEGIN:VEVENT
DTSTART;TZID=America/Regina:20260904T120000
DTEND;TZID=America/Regina:20260906T170000
DTSTAMP:20260420T033746
CREATED:20260326T173313Z
LAST-MODIFIED:20260326T173317Z
UID:3444-1788523200-1788714000@humboldtgolfclub.ca
SUMMARY:Private Event
DESCRIPTION:Event Center Only\n\n\n\n\n\nZwarych/Huls Wedding
URL:https://humboldtgolfclub.ca/event/private-event-4/
CATEGORIES:Event Centre - Private
ATTACH;FMTTYPE=image/png:https://humboldtgolfclub.ca/wp-content/uploads/2023/04/Event-Tent-Private.png
END:VEVENT
BEGIN:VEVENT
DTSTART;TZID=America/Regina:20260909T090000
DTEND;TZID=America/Regina:20260909T114500
DTSTAMP:20260420T033746
CREATED:20250417T201000Z
LAST-MODIFIED:20260324T192447Z
UID:3193-1788944400-1788954300@humboldtgolfclub.ca
SUMMARY:Senior's Wind-Up
DESCRIPTION:Weekly on Wednesdays \n\n\n\n\n\nThe is the last Senior’s Morning.
URL:https://humboldtgolfclub.ca/event/seniors-wind-up/
CATEGORIES:Senior's Morning
ATTACH;FMTTYPE=image/jpeg:https://humboldtgolfclub.ca/wp-content/uploads/2025/04/Seniors-Morning.jpg
END:VEVENT
BEGIN:VEVENT
DTSTART;TZID=America/Regina:20260910T080000
DTEND;TZID=America/Regina:20260910T180000
DTSTAMP:20260420T033746
CREATED:20250417T200620Z
LAST-MODIFIED:20260324T185600Z
UID:3190-1789027200-1789063200@humboldtgolfclub.ca
SUMMARY:11th Annual Humboldt Emergency Services Charity Texas Scramble
DESCRIPTION: 4-person best ball. \n\n\n\nRegistration at 11:30\, Shotgun start at 12:30pm.  Pre-register before Sunday\, August 31st. \n\n\n\nRegister in person at the RCMP detachment. 1004 11 Avenue\, Humboldt\, SK \n\n\n\nBring warm clothing and non-perishable food items to “pack the boat” and support the Food Bank\, Newcomers Centre\, and Winter Preparedness efforts!
URL:https://humboldtgolfclub.ca/event/emergency-services-charity-scramble/
CATEGORIES:Charity Tournament
ATTACH;FMTTYPE=image/jpeg:https://humboldtgolfclub.ca/wp-content/uploads/2025/04/HES.jpeg
END:VEVENT
BEGIN:VEVENT
DTSTART;TZID=America/Regina:20260912T080000
DTEND;TZID=America/Regina:20260912T180000
DTSTAMP:20260420T033746
CREATED:20230328T200808Z
LAST-MODIFIED:20260324T185518Z
UID:2630-1789200000-1789236000@humboldtgolfclub.ca
SUMMARY:Home Hardware Fall Scramble 2026
DESCRIPTION:Tournament Information:\n\n\n\n\n\nFormat:    \n\n\n\n4 person scramble\, 18 holes\, presentations and meal to follow \n\n\n\nMens\, Ladies\, Mixed and Senior Divisions \n\n\n\nRegister in person at the ProShop or by calling 306.682.2833 \n\n\n\nShotgun start at 11:00am  \n\n\n\n$50 Member\, $60 Weekday Member\, $75 Non-member\, Cart cost (if needed) $23 per person
URL:https://humboldtgolfclub.ca/event/home-hardware-fall-scramble/
CATEGORIES:Public Golf Event
ATTACH;FMTTYPE=image/jpeg:https://humboldtgolfclub.ca/wp-content/uploads/2024/03/2024-Fall-Scramble.jpg
END:VEVENT
BEGIN:VEVENT
DTSTART;TZID=America/Regina:20260919T090000
DTEND;TZID=America/Regina:20260919T180000
DTSTAMP:20260420T033746
CREATED:20250417T201145Z
LAST-MODIFIED:20260324T185644Z
UID:3195-1789808400-1789840800@humboldtgolfclub.ca
SUMMARY:Men's Night Wind-up
DESCRIPTION:Format:    \n\n\n\n4 vs 4 scramble\, 18 holes\, presentations and meal to follow \n\n\n\nRegister in person at the ProShop or by calling 306.682.2833 \n\n\n\nShotgun start at 12:00 noon \n\n\n\n$40 Member\, $50 Weekday Member\, $65 Non-member\, Cart cost (if needed) $23 per person
URL:https://humboldtgolfclub.ca/event/mens-night-wind-up/
CATEGORIES:Men's Nite
ATTACH;FMTTYPE=image/jpeg:https://humboldtgolfclub.ca/wp-content/uploads/2024/06/Mens-Nite-2024.jpg
END:VEVENT
BEGIN:VEVENT
DTSTART;TZID=America/Regina:20260925T120000
DTEND;TZID=America/Regina:20260927T170000
DTSTAMP:20260420T033746
CREATED:20260324T190100Z
LAST-MODIFIED:20260324T190104Z
UID:3403-1790337600-1790528400@humboldtgolfclub.ca
SUMMARY:Private Event
DESCRIPTION:Event Center Only
URL:https://humboldtgolfclub.ca/event/private-event-6/
CATEGORIES:Event Centre - Private
ATTACH;FMTTYPE=image/png:https://humboldtgolfclub.ca/wp-content/uploads/2023/04/Event-Tent-Private.png
END:VEVENT
BEGIN:VEVENT
DTSTART;TZID=America/Regina:20260926T080000
DTEND;TZID=America/Regina:20260926T170000
DTSTAMP:20260420T033746
CREATED:20260324T191148Z
LAST-MODIFIED:20260324T191159Z
UID:3405-1790409600-1790442000@humboldtgolfclub.ca
SUMMARY:SHSAA (High School) Golf Provincials
DESCRIPTION:SHSAA Golf Provincials
URL:https://humboldtgolfclub.ca/event/shsaa-high-school-golf-provincials/
END:VEVENT
BEGIN:VEVENT
DTSTART;TZID=America/Regina:20261003T120000
DTEND;TZID=America/Regina:20261003T180000
DTSTAMP:20260420T033746
CREATED:20230328T201519Z
LAST-MODIFIED:20260324T185110Z
UID:2638-1791028800-1791050400@humboldtgolfclub.ca
SUMMARY:Rude Pin Scramble
DESCRIPTION:Format:     \n\n\n\n4 person scramble\, 18 holes\, presentations and meal to follow \n\n\n\nAll Ages Welcome! \n\n\n\nRegister in person at the ProShop or by calling 306.682.2833 \n\n\n\nShotgun start at 12:00 noon \n\n\n\n$50 Member\, $60 Weekday Member\, $75 Non-member\, Cart cost (if needed) $23 per person
URL:https://humboldtgolfclub.ca/event/rude-pin/
CATEGORIES:Public Golf Event
ATTACH;FMTTYPE=image/jpeg:https://humboldtgolfclub.ca/wp-content/uploads/2024/06/Rude-Pin-Poster-2023.jpg
END:VEVENT
END:VCALENDAR