BEGIN:VCALENDAR
VERSION:2.0
PRODID:-//Humboldt Golf Club - ECPv6.15.20//NONSGML v1.0//EN
CALSCALE:GREGORIAN
METHOD:PUBLISH
X-WR-CALNAME:Humboldt Golf Club
X-ORIGINAL-URL:https://humboldtgolfclub.ca
X-WR-CALDESC:Events for Humboldt Golf Club
REFRESH-INTERVAL;VALUE=DURATION:PT1H
X-Robots-Tag:noindex
X-PUBLISHED-TTL:PT1H
BEGIN:VTIMEZONE
TZID:America/Regina
BEGIN:STANDARD
TZOFFSETFROM:-0600
TZOFFSETTO:-0600
TZNAME:CST
DTSTART:20250101T000000
END:STANDARD
END:VTIMEZONE
BEGIN:VEVENT
DTSTART;TZID=America/Regina:20260701T180000
DTEND;TZID=America/Regina:20260701T210000
DTSTAMP:20260423T025350
CREATED:20250417T174548Z
LAST-MODIFIED:20260324T202616Z
UID:3104-1782928800-1782939600@humboldtgolfclub.ca
SUMMARY:Lady's Night
DESCRIPTION:Weekly on Wednesdays \n\n\n\n\n\nJoin us at the HGC for our weekly Lady’s Night at 6:00 pm each week.   \n\n\n\nThe last Lady’s Night is August 27th.
URL:https://humboldtgolfclub.ca/event/ladies-night-3/
CATEGORIES:Ladies' Night
ATTACH;FMTTYPE=image/jpeg:https://humboldtgolfclub.ca/wp-content/uploads/2025/04/Ladies-Night.jpg
END:VEVENT
BEGIN:VEVENT
DTSTART;TZID=America/Regina:20260708T180000
DTEND;TZID=America/Regina:20260708T210000
DTSTAMP:20260423T025350
CREATED:20250417T175411Z
LAST-MODIFIED:20260324T202057Z
UID:3114-1783533600-1783544400@humboldtgolfclub.ca
SUMMARY:Lady's Night
DESCRIPTION:Weekly on Wednesdays \n\n\n\n\n\nJoin us at the HGC for our weekly Lady’s Night at 6:00 pm each week.   \n\n\n\nThe last Lady’s Night is August 27th.
URL:https://humboldtgolfclub.ca/event/ladies-night-4/
CATEGORIES:Ladies' Night
ATTACH;FMTTYPE=image/jpeg:https://humboldtgolfclub.ca/wp-content/uploads/2025/04/Ladies-Night.jpg
END:VEVENT
BEGIN:VEVENT
DTSTART;TZID=America/Regina:20260722T180000
DTEND;TZID=America/Regina:20260722T210000
DTSTAMP:20260423T025350
CREATED:20250417T181231Z
LAST-MODIFIED:20260324T201509Z
UID:3128-1784743200-1784754000@humboldtgolfclub.ca
SUMMARY:Lady's Night
DESCRIPTION:Weekly on Wednesdays \n\n\n\n\n\nJoin us at the HGC for our weekly Lady’s Night at 6:00 pm each week.   \n\n\n\nThe last Lady’s Night is August 27th.
URL:https://humboldtgolfclub.ca/event/ladies-night-5/
CATEGORIES:Ladies' Night
ATTACH;FMTTYPE=image/jpeg:https://humboldtgolfclub.ca/wp-content/uploads/2025/04/Ladies-Night.jpg
END:VEVENT
BEGIN:VEVENT
DTSTART;TZID=America/Regina:20260729T180000
DTEND;TZID=America/Regina:20260729T210000
DTSTAMP:20260423T025350
CREATED:20250417T181745Z
LAST-MODIFIED:20260324T201043Z
UID:3138-1785348000-1785358800@humboldtgolfclub.ca
SUMMARY:Lady's Night
DESCRIPTION:Weekly on Wednesdays \n\n\n\n\n\nJoin us at the HGC for our weekly Lady’s Night at 6:00 pm each week.   \n\n\n\nThe last Lady’s Night is August 27th.
URL:https://humboldtgolfclub.ca/event/ladies-night-6/
CATEGORIES:Ladies' Night
ATTACH;FMTTYPE=image/jpeg:https://humboldtgolfclub.ca/wp-content/uploads/2025/04/Ladies-Night.jpg
END:VEVENT
END:VCALENDAR